Workbook

Sheet 申込書兼エントリー用紙
A1: 令和8年度 第3回九州ヤングクラブ女子バレーボール大会 申込書兼エントリー用紙 | J1: 締切：10月23日厳守でお願いいたします。
A3: チーム情報
A4: 所属連盟 （所属協会） | C4: 沖縄県
C5: バレーボール協会
A6: 種別 | C6: Ｕ－１４女子 | E6: 活動頻度
A7: ふりがな | E7: ＪＶＡチームＩＤ
A8: チーム名 | E8: 活動開始年度
A9: チーム名略称
A10: ホームページ
A12: 責任者情報
A13: ふりがな | E13: 携帯電話番号
A14: 責任者氏名 | E14: 固定電話番号
A15: 郵便番号 | E15: メールアドレス
A16: 住所
A18: スタッフ情報
A19: 役職 | B19: 氏 | C19: 名 | D19: JVA登録ID | E19: JSPO資格 | F19: JSPO登録番号 | G19: 審判資格
A20: 部長
A21: 監督
A22: コーチ
A23: マネージャー | J23: ※監督・コーチ･マネージャーは、１名につき１チームのみの登録とし、別チームのスタッフと兼任はできない。
A24: ドクター | J24: 全てのスタッフ1名は、1チーム、1役職としてください。
A25: トレーナー
A26: 審判1 | J26: スタッフ以外で大会の審判として参加される方(有資格者)がいらっしゃる場合は記入してください。
A27: 審判2
A29: 選手情報
A30: ＮＯ． | B30: 背番号 | C30: 氏 | D30: 名 | E30: 身長 | F30: 最高到達点 | G30: 年齢 | H30: 在籍校名等 | I30: JVA登録ＩＤ
A31: 1 | J31: 本申込書が正式な申込書です。選手は特別な理由がない限り変更不可です。
A32: 2
A33: 3
A34: 4
A35: 5
A36: 6
A37: 7
A38: 8
A39: 9
A40: 10
A41: 11
A42: 12
A43: 13
... A48: 18
B49: キャプテンの番号に〇 例①
A50: 選手募集方法 | J50: 近隣に居住する選手が、チームの活動に参加したいという場合、どこを見ればいいのか等、ご記入ください。
A51: 確認事項 | C51: 選手に対し、体罰等の暴力行為や暴言等、不適切な指導を一切行っていないことを誓約いたします。 | J51: 選手の募集要項・団体規約があることが参加の条件です。参加希望チームが多数の場合、提出をお願いする場合があります。
C52: 大会の趣旨に沿い、年間を通じて、週単位で活動している選手・チームであることを誓約いたします。 | J52: ←(部長または監督名)

Sheet IFオーダー用紙
A1: オーダー用紙 | E1: チーム名
B2: ↓入力用
C4: =H1 -> 0 | H4: =H1 -> 0 | M4: =H1 -> 0 | R4: =H1 -> 0
C5: 氏 名 | H5: 氏 名 | M5: 氏 名 | R5: 氏 名
B6: 1 | C6: =申込書兼エントリー用紙!C31 -> 0 | D6: =申込書兼エントリー用紙!D31 -> 0 | G6: 1 | H6: =C6 -> 0 | I6: =D6 -> 0 | L6: 1 | M6: =H6 -> 0 | N6: =I6 -> 0 | Q6: 1 | R6: =M6 -> 0 | S6: =N6 -> 0
B7: 2 | C7: =申込書兼エントリー用紙!C32 -> 0 | D7: =申込書兼エントリー用紙!D32 -> 0 | G7: 2 | H7: =C7 -> 0 | I7: =D7 -> 0 | L7: 2 | M7: =H7 -> 0 | N7: =I7 -> 0 | Q7: 2 | R7: =M7 -> 0 | S7: =N7 -> 0
B8: 3 | C8: =申込書兼エントリー用紙!C33 -> 0 | D8: =申込書兼エントリー用紙!D33 -> 0 | G8: 3 | H8: =C8 -> 0 | I8: =D8 -> 0 | L8: 3 | M8: =H8 -> 0 | N8: =I8 -> 0 | Q8: 3 | R8: =M8 -> 0 | S8: =N8 -> 0
B9: 4 | C9: =申込書兼エントリー用紙!C34 -> 0 | D9: =申込書兼エントリー用紙!D34 -> 0 | G9: 4 | H9: =C9 -> 0 | I9: =D9 -> 0 | L9: 4 | M9: =H9 -> 0 | N9: =I9 -> 0 | Q9: 4 | R9: =M9 -> 0 | S9: =N9 -> 0
B10: 5 | C10: =申込書兼エントリー用紙!C35 -> 0 | D10: =申込書兼エントリー用紙!D35 -> 0 | G10: 5 | H10: =C10 -> 0 | I10: =D10 -> 0 | L10: 5 | M10: =H10 -> 0 | N10: =I10 -> 0 | Q10: 5 | R10: =M10 -> 0 | S10: =N10 -> 0
B11: 6 | C11: =申込書兼エントリー用紙!C36 -> 0 | D11: =申込書兼エントリー用紙!D36 -> 0 | G11: 6 | H11: =C11 -> 0 | I11: =D11 -> 0 | L11: 6 | M11: =H11 -> 0 | N11: =I11 -> 0 | Q11: 6 | R11: =M11 -> 0 | S11: =N11 -> 0
B12: 7 | C12: =申込書兼エントリー用紙!C37 -> 0 | D12: =申込書兼エントリー用紙!D37 -> 0 | G12: 7 | H12: =C12 -> 0 | I12: =D12 -> 0 | L12: 7 | M12: =H12 -> 0 | N12: =I12 -> 0 | Q12: 7 | R12: =M12 -> 0 | S12: =N12 -> 0
B13: 8 | C13: =申込書兼エントリー用紙!C38 -> 0 | D13: =申込書兼エントリー用紙!D38 -> 0 | G13: 8 | H13: =C13 -> 0 | I13: =D13 -> 0 | L13: 8 | M13: =H13 -> 0 | N13: =I13 -> 0 | Q13: 8 | R13: =M13 -> 0 | S13: =N13 -> 0
B14: 9 | C14: =申込書兼エントリー用紙!C39 -> 0 | D14: =申込書兼エントリー用紙!D39 -> 0 | G14: 9 | H14: =C14 -> 0 | I14: =D14 -> 0 | L14: 9 | M14: =H14 -> 0 | N14: =I14 -> 0 | Q14: 9 | R14: =M14 -> 0 | S14: =N14 -> 0
B15: 10 | C15: =申込書兼エントリー用紙!C40 -> 0 | D15: =申込書兼エントリー用紙!D40 -> 0 | G15: 10 | H15: =C15 -> 0 | I15: =D15 -> 0 | L15: 10 | M15: =H15 -> 0 | N15: =I15 -> 0 | Q15: 10 | R15: =M15 -> 0 | S15: =N15 -> 0
B16: 11 | C16: =申込書兼エントリー用紙!C41 -> 0 | D16: =申込書兼エントリー用紙!D41 -> 0 | G16: 11 | H16: =C16 -> 0 | I16: =D16 -> 0 | L16: 11 | M16: =H16 -> 0 | N16: =I16 -> 0 | Q16: 11 | R16: =M16 -> 0 | S16: =N16 -> 0
B17: 12 | C17: =申込書兼エントリー用紙!C42 -> 0 | D17: =申込書兼エントリー用紙!D42 -> 0 | G17: 12 | H17: =C17 -> 0 | I17: =D17 -> 0 | L17: 12 | M17: =H17 -> 0 | N17: =I17 -> 0 | Q17: 12 | R17: =M17 -> 0 | S17: =N17 -> 0
... B23: 18 | C23: =申込書兼エントリー用紙!C48 -> 0 | D23: =申込書兼エントリー用紙!D48 -> 0 | G23: 18 | H23: =C23 -> 0 | I23: =D23 -> 0 | L23: 18 | M23: =H23 -> 0 | N23: =I23 -> 0 | Q23: 18 | R23: =M23 -> 0 | S23: =N23 -> 0
C25: =H1 -> 0 | H25: =H1 -> 0 | M25: =H1 -> 0 | R25: =H1 -> 0
C26: 氏 名 | H26: 氏 名 | M26: 氏 名 | R26: 氏 名
B27: 1 | C27: =C6 -> 0 | D27: =D6 -> 0 | G27: 1 | H27: =H6 -> 0 | I27: =I6 -> 0 | L27: 1 | M27: =M6 -> 0 | N27: =N6 -> 0 | Q27: 1 | R27: =R6 -> 0 | S27: =S6 -> 0
B28: 2 | C28: =C7 -> 0 | D28: =D7 -> 0 | G28: 2 | H28: =H7 -> 0 | I28: =I7 -> 0 | L28: 2 | M28: =M7 -> 0 | N28: =N7 -> 0 | Q28: 2 | R28: =R7 -> 0 | S28: =S7 -> 0
B29: 3 | C29: =C8 -> 0 | D29: =D8 -> 0 | G29: 3 | H29: =H8 -> 0 | I29: =I8 -> 0 | L29: 3 | M29: =M8 -> 0 | N29: =N8 -> 0 | Q29: 3 | R29: =R8 -> 0 | S29: =S8 -> 0
B30: 4 | C30: =C9 -> 0 | D30: =D9 -> 0 | G30: 4 | H30: =H9 -> 0 | I30: =I9 -> 0 | L30: 4 | M30: =M9 -> 0 | N30: =N9 -> 0 | Q30: 4 | R30: =R9 -> 0 | S30: =S9 -> 0
B31: 5 | C31: =C10 -> 0 | D31: =D10 -> 0 | G31: 5 | H31: =H10 -> 0 | I31: =I10 -> 0 | L31: 5 | M31: =M10 -> 0 | N31: =N10 -> 0 | Q31: 5 | R31: =R10 -> 0 | S31: =S10 -> 0
B32: 6 | C32: =C11 -> 0 | D32: =D11 -> 0 | G32: 6 | H32: =H11 -> 0 | I32: =I11 -> 0 | L32: 6 | M32: =M11 -> 0 | N32: =N11 -> 0 | Q32: 6 | R32: =R11 -> 0 | S32: =S11 -> 0
B33: 7 | C33: =C12 -> 0 | D33: =D12 -> 0 | G33: 7 | H33: =H12 -> 0 | I33: =I12 -> 0 | L33: 7 | M33: =M12 -> 0 | N33: =N12 -> 0 | Q33: 7 | R33: =R12 -> 0 | S33: =S12 -> 0
B34: 8 | C34: =C13 -> 0 | D34: =D13 -> 0 | G34: 8 | H34: =H13 -> 0 | I34: =I13 -> 0 | L34: 8 | M34: =M13 -> 0 | N34: =N13 -> 0 | Q34: 8 | R34: =R13 -> 0 | S34: =S13 -> 0
B35: 9 | C35: =C14 -> 0 | D35: =D14 -> 0 | G35: 9 | H35: =H14 -> 0 | I35: =I14 -> 0 | L35: 9 | M35: =M14 -> 0 | N35: =N14 -> 0 | Q35: 9 | R35: =R14 -> 0 | S35: =S14 -> 0
B36: 10 | C36: =C15 -> 0 | D36: =D15 -> 0 | G36: 10 | H36: =H15 -> 0 | I36: =I15 -> 0 | L36: 10 | M36: =M15 -> 0 | N36: =N15 -> 0 | Q36: 10 | R36: =R15 -> 0 | S36: =S15 -> 0
B37: 11 | C37: =C16 -> 0 | D37: =D16 -> 0 | G37: 11 | H37: =H16 -> 0 | I37: =I16 -> 0 | L37: 11 | M37: =M16 -> 0 | N37: =N16 -> 0 | Q37: 11 | R37: =R16 -> 0 | S37: =S16 -> 0
B38: 12 | C38: =C17 -> 0 | D38: =D17 -> 0 | G38: 12 | H38: =H17 -> 0 | I38: =I17 -> 0 | L38: 12 | M38: =M17 -> 0 | N38: =N17 -> 0 | Q38: 12 | R38: =R17 -> 0 | S38: =S17 -> 0
... B44: 18 | C44: =C23 -> 0 | D44: =D23 -> 0 | G44: 18 | H44: =H23 -> 0 | I44: =I23 -> 0 | L44: 18 | M44: =M23 -> 0 | N44: =N23 -> 0 | Q44: 18 | R44: =R23 -> 0 | S44: =S23 -> 0
A46: ※ 切り取らず、A4サイズでエントリ-用紙と一緒に提出お願いします。

Sheet ラインアップシート
B1: =申込書兼エントリー用紙!C8 -> 0 | H1: =申込書兼エントリー用紙!C8 -> 0 | N1: =申込書兼エントリー用紙!C8 -> 0
A2: チーム名 | G2: チーム名 | M2: チーム名
B4: 1 | C4: セット | H4: 2 | I4: セット | N4: 3 | O4: セット
A5: Ⅳ | B5: Ⅲ | D5: Ⅱ | G5: Ⅳ | H5: Ⅲ | J5: Ⅱ | M5: Ⅳ | N5: Ⅲ | P5: Ⅱ
A7: Ⅴ | B7: Ⅵ | D7: Ⅰ | G7: Ⅴ | H7: Ⅵ | J7: Ⅰ | M7: Ⅴ | N7: Ⅵ | P7: Ⅰ
B16: =申込書兼エントリー用紙!B21 -> 0 | D16: =申込書兼エントリー用紙!C21 -> 0 | H16: =申込書兼エントリー用紙!B21 -> 0 | J16: =申込書兼エントリー用紙!C21 -> 0 | N16: =申込書兼エントリー用紙!B21 -> 0 | P16: =申込書兼エントリー用紙!C21 -> 0
A17: 監督氏名 | G17: 監督氏名 | M17: 監督氏名
A20: 沖縄県バレーボール協会 | G20: 沖縄県バレーボール協会 | M20: 沖縄県バレーボール協会
B26: =申込書兼エントリー用紙!C8 -> 0 | H26: =申込書兼エントリー用紙!C8 -> 0 | N26: =申込書兼エントリー用紙!C8 -> 0
A27: チーム名 | G27: チーム名 | M27: チーム名
B29: 1 | C29: セット | H29: 2 | I29: セット | N29: 3 | O29: セット
A30: Ⅳ | B30: Ⅲ | D30: Ⅱ | G30: Ⅳ | H30: Ⅲ | J30: Ⅱ | M30: Ⅳ | N30: Ⅲ | P30: Ⅱ
A32: Ⅴ | B32: Ⅵ | D32: Ⅰ | G32: Ⅴ | H32: Ⅵ | J32: Ⅰ | M32: Ⅴ | N32: Ⅵ | P32: Ⅰ
B41: =申込書兼エントリー用紙!B21 -> 0 | D41: =申込書兼エントリー用紙!C21 -> 0 | H41: =申込書兼エントリー用紙!B21 -> 0 | J41: =申込書兼エントリー用紙!C21 -> 0 | N41: =申込書兼エントリー用紙!B21 -> 0 | P41: =申込書兼エントリー用紙!C21 -> 0
A42: 監督氏名 | G42: 監督氏名 | M42: 監督氏名
A45: 沖縄県バレーボール協会 | G45: 沖縄県バレーボール協会 | M45: 沖縄県バレーボール協会
